BEGIN:VCALENDAR
VERSION:2.0
PRODID:-//Plone.org//NONSGML plone.app.event//EN
X-WR-TIMEZONE:America/Argentina/Buenos_Aires
BEGIN:VEVENT
SUMMARY:Sessão Ordinária
DTSTART;VALUE=DATE:20150203
DTEND;VALUE=DATE:20150204
DTSTAMP;VALUE=DATE-TIME:20260426T000116Z
UID:bb5158142d0440f5b5bb80a96fe6456a@manicore.am.leg.br
CREATED;VALUE=DATE-TIME:20150126T230709Z
LAST-MODIFIED;VALUE=DATE-TIME:20150130T051018Z
URL:https://www.manicore.am.leg.br/institucional/eventos/sessao-ordinaria
END:VEVENT
END:VCALENDAR
