BEGIN:VCALENDAR
VERSION:2.0
PRODID:-//Plone.org//NONSGML plone.app.event//EN
X-WR-TIMEZONE:America/Argentina/Buenos_Aires
BEGIN:VEVENT
SUMMARY:1ª Sessão Legislativa do Primeiro Período de 2015
DTSTART;VALUE=DATE:20150202
DTEND;VALUE=DATE:20150203
DTSTAMP;VALUE=DATE-TIME:20260424T210812Z
UID:f0b79975b0f44137a8cc1fc3be6a3aa6@manicore.am.leg.br
CREATED;VALUE=DATE-TIME:20150126T230809Z
LAST-MODIFIED;VALUE=DATE-TIME:20150130T050659Z
URL:https://www.manicore.am.leg.br/institucional/eventos/1a-sessao-legisla
 tiva-do-primeiro-periodo-de-2015-1
END:VEVENT
END:VCALENDAR
